BEGIN:VCALENDAR
VERSION:2.0
PRODID:-//La batuta de un cooltureta - ECPv6.15.16//NONSGML v1.0//EN
CALSCALE:GREGORIAN
METHOD:PUBLISH
X-ORIGINAL-URL:https://labatutadeuncooltureta.com
X-WR-CALDESC:Eventos para La batuta de un cooltureta
REFRESH-INTERVAL;VALUE=DURATION:PT1H
X-Robots-Tag:noindex
X-PUBLISHED-TTL:PT1H
BEGIN:VTIMEZONE
TZID:UTC
BEGIN:STANDARD
TZOFFSETFROM:+0000
TZOFFSETTO:+0000
TZNAME:UTC
DTSTART:20250101T000000
END:STANDARD
END:VTIMEZONE
BEGIN:VEVENT
DTSTART;TZID=UTC:20260408T193000
DTEND;TZID=UTC:20260408T210000
DTSTAMP:20260420T071133
CREATED:20260224T110036Z
LAST-MODIFIED:20260305T212458Z
UID:2730-1775676600-1775682000@labatutadeuncooltureta.com
SUMMARY:De Bach a los Beatles: por qué algunas melodías no nos sueltan nunca
DESCRIPTION:Hay músicas que no se escuchan: se quedan a vivir dentro de nosotros.\n¿Por qué algunas melodías se nos quedan grabadas para siempre mientras otras desaparecen al instante? Esta charla propone un viaje fascinante desde Bach hasta el pop contemporáneo para descubrir los secretos que convierten una melodía en inolvidable. Memoria\, emoción\, repetición y sorpresa se entrelazan en un recorrido lleno de ejemplos musicales que cambiará nuestra forma de escuchar.
URL:https://labatutadeuncooltureta.com/agenda/de-bach-a-los-beatles-por-que-algunas-melodias-no-nos-sueltan-nunca/
LOCATION:Privado: Online
CATEGORIES:Charlas y Conferencias
ATTACH;FMTTYPE=image/jpeg:https://labatutadeuncooltureta.com/wp-content/uploads/2026/02/02_bach_beatles_fixed_800x800_blur_72dpi.jpg
END:VEVENT
BEGIN:VEVENT
DTSTART;TZID=UTC:20260310T190000
DTEND;TZID=UTC:20260310T203000
DTSTAMP:20260420T071133
CREATED:20260224T110007Z
LAST-MODIFIED:20260305T212510Z
UID:2731-1773169200-1773174600@labatutadeuncooltureta.com
SUMMARY:Mujeres compositoras (Segunda parte)
DESCRIPTION:Charla para redescubrir a compositoras que la historia dejó en sombra\, desde Hildegard von Bingen hasta Clara Schumann\, cuyas obras desafían el silencio impuesto por su época. A través de audiciones comentadas\, anécdotas y contexto histórico\, se revela un legado musical lleno de talento\, coraje y sensibilidad. Un viaje para escuchar la historia con otros oídos y devolver voz a quienes compusieron\, muchas veces\, en voz baja. \nReserva ahora:932417874
URL:https://labatutadeuncooltureta.com/agenda/mujeres-compositoras-segunda-parte/
LOCATION:Privado: Casal de Gent Gran de Can Castelló\, Carrer de Castelló\, 1\, Sarrià-Sant Gervasi\, Barcelona\, 08021\, Spain
CATEGORIES:Charlas y Conferencias
ATTACH;FMTTYPE=image/jpeg:https://labatutadeuncooltureta.com/wp-content/uploads/2026/02/mujerescompositoras.jpg
END:VEVENT
END:VCALENDAR